BEGIN:VCALENDAR
VERSION:2.0
PRODID:icalendar-ruby
CALSCALE:GREGORIAN
METHOD:PUBLISH
BEGIN:VEVENT
DTSTAMP:20260425T033137Z
UID:b25645c2-65bf-48da-9ddc-0d17543476fc
DTSTART;VALUE=DATE:20250701
DTEND;VALUE=DATE:20250701
DESCRIPTION:BMX@Shoreham
LOCATION:Rt25 A & Defense Hill Rd  Shoreham NY 11786 USA
SUMMARY:Local Race Single
URL:/site/bmx_races/591659
END:VEVENT
END:VCALENDAR
