BEGIN:VCALENDAR
VERSION:2.0
PRODID:icalendar-ruby
CALSCALE:GREGORIAN
METHOD:PUBLISH
BEGIN:VEVENT
DTSTAMP:20260424T084406Z
UID:b109b8a8-e306-4e17-a3c4-51a40651eeaf
DTSTART;VALUE=DATE:20250629
DTEND;VALUE=DATE:20250629
DESCRIPTION:Hornet`s Nest BMX
LOCATION:6301 Beatties Ford Rd  Charlotte NC 28216 USA
SUMMARY:Race for Life Single
URL:/site/bmx_races/591604
END:VEVENT
END:VCALENDAR
