BEGIN:VCALENDAR
VERSION:2.0
PRODID:icalendar-ruby
CALSCALE:GREGORIAN
METHOD:PUBLISH
BEGIN:VEVENT
DTSTAMP:20260425T115226Z
UID:2bf9d0c2-9586-4138-a2e2-b4327fc1981d
DTSTART;VALUE=DATE:20250623
DTEND;VALUE=DATE:20250623
DESCRIPTION:Cactus Park BMX
LOCATION:10610 Ashwood St  Lakeside CA 92040 USA
SUMMARY:Local Race Single
URL:/site/bmx_races/591537
END:VEVENT
END:VCALENDAR
