BEGIN:VCALENDAR
VERSION:2.0
PRODID:icalendar-ruby
CALSCALE:GREGORIAN
METHOD:PUBLISH
BEGIN:VEVENT
DTSTAMP:20260425T231618Z
UID:f6ebf49d-0240-491e-94e6-642ad4d31f70
DTSTART;VALUE=DATE:20250619
DTEND;VALUE=DATE:20250619
DESCRIPTION:ORL BMX
LOCATION:4801 W Colonial Dr  Orlando FL 32808 USA
SUMMARY:Local Race Single
URL:/site/bmx_races/591472
END:VEVENT
END:VCALENDAR
