BEGIN:VCALENDAR
VERSION:2.0
PRODID:icalendar-ruby
CALSCALE:GREGORIAN
METHOD:PUBLISH
BEGIN:VEVENT
DTSTAMP:20260425T191028Z
UID:6727a728-62c1-48b0-8453-e8ebe297ae9f
DTSTART;VALUE=DATE:20250608
DTEND;VALUE=DATE:20250608
DESCRIPTION:Emerald Valley BMX
LOCATION:2715 Leo Harris Pkwy  Eugene OR 97402 USA
SUMMARY:Local Race Single
URL:/site/bmx_races/591351
END:VEVENT
END:VCALENDAR
