BEGIN:VCALENDAR
VERSION:2.0
PRODID:icalendar-ruby
CALSCALE:GREGORIAN
METHOD:PUBLISH
BEGIN:VEVENT
DTSTAMP:20260425T204011Z
UID:15a43652-f8f1-42c3-989c-528dc1cdd8a3
DTSTART;VALUE=DATE:20250515
DTEND;VALUE=DATE:20250515
DESCRIPTION:Emerald Valley BMX
LOCATION:2715 Leo Harris Pkwy  Eugene OR 97402 USA
SUMMARY:Local Race Single
URL:/site/bmx_races/591264
END:VEVENT
END:VCALENDAR
