BEGIN:VCALENDAR
VERSION:2.0
PRODID:icalendar-ruby
CALSCALE:GREGORIAN
METHOD:PUBLISH
BEGIN:VEVENT
DTSTAMP:20260424T233831Z
UID:e860bb20-6c66-46bc-8cb8-885716be76e9
DTSTART;VALUE=DATE:20250531
DTEND;VALUE=DATE:20250531
DESCRIPTION:Reno Battleborn BMX
LOCATION:Sun Valley Gid Community Park 115 W 6th Ave Sun Valley NV 89433 US
 A
SUMMARY:Local Race Single
URL:/site/bmx_races/591245
END:VEVENT
END:VCALENDAR
