BEGIN:VCALENDAR
VERSION:2.0
PRODID:icalendar-ruby
CALSCALE:GREGORIAN
METHOD:PUBLISH
BEGIN:VEVENT
DTSTAMP:20260424T131258Z
UID:87341ab9-4096-41cf-a17a-28280440f159
DTSTART;VALUE=DATE:20250531
DTEND;VALUE=DATE:20250531
DESCRIPTION:Manzanita Park BMX
LOCATION: 17100 Castroville Blvd  Prunedale CA 93907 USA
SUMMARY:Warnicke Double
URL:/site/bmx_races/591228
END:VEVENT
END:VCALENDAR
