BEGIN:VCALENDAR
VERSION:2.0
PRODID:icalendar-ruby
CALSCALE:GREGORIAN
METHOD:PUBLISH
BEGIN:VEVENT
DTSTAMP:20260424T202402Z
UID:af91a66d-b544-49d1-9648-0c3df9e6cfde
DTSTART;VALUE=DATE:20250525
DTEND;VALUE=DATE:20250525
DESCRIPTION:Nanaimo BMX
LOCATION:2001 Labieux Road  Nanaimo BC V9T 3K7 CAN
SUMMARY:Local Race Single
URL:/site/bmx_races/591139
END:VEVENT
END:VCALENDAR
