BEGIN:VCALENDAR
VERSION:2.0
PRODID:icalendar-ruby
CALSCALE:GREGORIAN
METHOD:PUBLISH
BEGIN:VEVENT
DTSTAMP:20260426T005808Z
UID:e660c674-d471-4603-9d74-be3ed7d8dd57
DTSTART;VALUE=DATE:20250512
DTEND;VALUE=DATE:20250512
DESCRIPTION:Twin City BMX
LOCATION:401 Lea Joyner Memorial Expy  Monroe LA 71201 USA
SUMMARY:Local Race Single
URL:/site/bmx_races/591105
END:VEVENT
END:VCALENDAR
