BEGIN:VCALENDAR
VERSION:2.0
PRODID:icalendar-ruby
CALSCALE:GREGORIAN
METHOD:PUBLISH
BEGIN:VEVENT
DTSTAMP:20260424T144552Z
UID:4775199d-26bb-472e-afdb-14743ceb44be
DTSTART;VALUE=DATE:20250517
DTEND;VALUE=DATE:20250517
DESCRIPTION:Rusty Bowl BMX
LOCATION:1281 E Gobbi St  Ukiah CA 95482 USA
SUMMARY:Local Race Single
URL:/site/bmx_races/591076
END:VEVENT
END:VCALENDAR
