BEGIN:VCALENDAR
VERSION:2.0
PRODID:icalendar-ruby
CALSCALE:GREGORIAN
METHOD:PUBLISH
BEGIN:VEVENT
DTSTAMP:20260424T185954Z
UID:f428315c-47a9-4766-8385-335a4ebefddb
DTSTART;VALUE=DATE:20250503
DTEND;VALUE=DATE:20250503
DESCRIPTION:Apple Valley BMX Moto Park
LOCATION:24320 Highway 18  Apple Valley CA 92307 USA
SUMMARY:State Race Double
URL:/site/bmx_races/590969
END:VEVENT
END:VCALENDAR
