BEGIN:VCALENDAR
VERSION:2.0
PRODID:icalendar-ruby
CALSCALE:GREGORIAN
METHOD:PUBLISH
BEGIN:VEVENT
DTSTAMP:20260425T221529Z
UID:77cb5710-dc5a-4ac6-bec1-2780f1b1bf67
DTSTART;VALUE=DATE:20250419
DTEND;VALUE=DATE:20250419
DESCRIPTION:Star City BMX
LOCATION:101 Charleston St  Lincoln NE 68508 USA
SUMMARY:Local Race Single
URL:/site/bmx_races/590826
END:VEVENT
END:VCALENDAR
