BEGIN:VCALENDAR
VERSION:2.0
PRODID:icalendar-ruby
CALSCALE:GREGORIAN
METHOD:PUBLISH
BEGIN:VEVENT
DTSTAMP:20260424T082728Z
UID:1fbadb7a-adfb-4dcd-b6a2-910516052205
DTSTART;VALUE=DATE:20250412
DTEND;VALUE=DATE:20250412
DESCRIPTION:Yukon BMX
LOCATION:Taylor Park Sports Complex   410 N 11th St Yukon OK 73064 USA
SUMMARY:State Race Triple
URL:/site/bmx_races/590792
END:VEVENT
END:VCALENDAR
