BEGIN:VCALENDAR
VERSION:2.0
PRODID:icalendar-ruby
CALSCALE:GREGORIAN
METHOD:PUBLISH
BEGIN:VEVENT
DTSTAMP:20260425T132114Z
UID:88d48b6f-b8ff-4955-b092-037010b3966c
DTSTART;VALUE=DATE:20250325
DTEND;VALUE=DATE:20250325
DESCRIPTION:Westmoreland BMX
LOCATION:200 Park Road  Apollo PA 15613 USA
SUMMARY:Local Race Single
URL:/site/bmx_races/590707
END:VEVENT
END:VCALENDAR
