BEGIN:VCALENDAR
VERSION:2.0
PRODID:icalendar-ruby
CALSCALE:GREGORIAN
METHOD:PUBLISH
BEGIN:VEVENT
DTSTAMP:20260424T045913Z
UID:4db32881-36ce-47a9-87df-129e2223c221
DTSTART;VALUE=DATE:20250321
DTEND;VALUE=DATE:20250321
DESCRIPTION:VMP BMX
LOCATION:8018 Boydton Plank Road  N Dinwiddie VA 23803 USA
SUMMARY:Local Race Single
URL:/site/bmx_races/590692
END:VEVENT
END:VCALENDAR
