BEGIN:VCALENDAR
VERSION:2.0
PRODID:icalendar-ruby
CALSCALE:GREGORIAN
METHOD:PUBLISH
BEGIN:VEVENT
DTSTAMP:20260424T105916Z
UID:0d5db74e-5534-4840-af1c-e03b71632cfa
DTSTART;VALUE=DATE:20250316
DTEND;VALUE=DATE:20250316
DESCRIPTION:Park City BMX
LOCATION:6801 N Hydraulic  Park City KS 67219 USA
SUMMARY:Local Race Single
URL:/site/bmx_races/590648
END:VEVENT
END:VCALENDAR
