BEGIN:VCALENDAR
VERSION:2.0
PRODID:icalendar-ruby
CALSCALE:GREGORIAN
METHOD:PUBLISH
BEGIN:VEVENT
DTSTAMP:20260424T091917Z
UID:1ce8377b-1087-4e6a-8c31-fa78b5372967
DTSTART;VALUE=DATE:20250225
DTEND;VALUE=DATE:20250225
DESCRIPTION:Sarasota BMX
LOCATION:1590 North Tuttle Avenue  Sarasota FL 34237 USA
SUMMARY:Local Race Single
URL:/site/bmx_races/590585
END:VEVENT
END:VCALENDAR
