BEGIN:VCALENDAR
VERSION:2.0
PRODID:icalendar-ruby
CALSCALE:GREGORIAN
METHOD:PUBLISH
BEGIN:VEVENT
DTSTAMP:20260425T122939Z
UID:6195a000-f5ae-4b73-ab18-1b15c8c0acba
DTSTART;VALUE=DATE:20250124
DTEND;VALUE=DATE:20250124
DESCRIPTION:Whitney Mesa BMX
LOCATION:1575 Galleria Dr  Henderson NV 89014 USA
SUMMARY:Practice
URL:/site/bmx_races/590335
END:VEVENT
END:VCALENDAR
