BEGIN:VCALENDAR
VERSION:2.0
PRODID:icalendar-ruby
CALSCALE:GREGORIAN
METHOD:PUBLISH
BEGIN:VEVENT
DTSTAMP:20260424T173043Z
UID:c3f6f8dd-ad80-4375-9ded-5e91d9dbadd9
DTSTART;VALUE=DATE:20250820
DTEND;VALUE=DATE:20250820
DESCRIPTION:Greater Victoria BMX
LOCATION:1767 Island Hwy  Victoria BC V9B 1J1 CAN
SUMMARY:Non-Riding Event
URL:/site/bmx_races/590000
END:VEVENT
END:VCALENDAR
