BEGIN:VCALENDAR
VERSION:2.0
PRODID:icalendar-ruby
CALSCALE:GREGORIAN
METHOD:PUBLISH
BEGIN:VEVENT
DTSTAMP:20260425T110914Z
UID:35951d95-8435-422e-953a-da9e27045f59
DTSTART;VALUE=DATE:20250125
DTEND;VALUE=DATE:20250125
DESCRIPTION:High Springs BMX
LOCATION:  High Springs FL 32028 USA
SUMMARY:Clinic
URL:/site/bmx_races/589991
END:VEVENT
END:VCALENDAR
