BEGIN:VCALENDAR
VERSION:2.0
PRODID:icalendar-ruby
CALSCALE:GREGORIAN
METHOD:PUBLISH
BEGIN:VEVENT
DTSTAMP:20260424T201251Z
UID:8617be67-939a-434f-bb63-96b081bc8bb5
DTSTART;VALUE=DATE:20250425
DTEND;VALUE=DATE:20250425
DESCRIPTION:Duke City BMX
LOCATION:1011 Buena Vista Dr Se  Albuquerque NM 87106 USA
SUMMARY:Local Race Single
URL:/site/bmx_races/589675
END:VEVENT
END:VCALENDAR
