BEGIN:VCALENDAR
VERSION:2.0
PRODID:icalendar-ruby
CALSCALE:GREGORIAN
METHOD:PUBLISH
BEGIN:VEVENT
DTSTAMP:20260426T025340Z
UID:129feaa9-87c9-4f44-a78c-d3813956bf09
DTSTART;VALUE=DATE:20250114
DTEND;VALUE=DATE:20250114
DESCRIPTION:Emerald Valley BMX
LOCATION:2715 Leo Harris Pkwy  Eugene OR 97402 USA
SUMMARY:Practice
URL:/site/bmx_races/589612
END:VEVENT
END:VCALENDAR
