BEGIN:VCALENDAR
VERSION:2.0
PRODID:icalendar-ruby
CALSCALE:GREGORIAN
METHOD:PUBLISH
BEGIN:VEVENT
DTSTAMP:20260425T152808Z
UID:e115e60c-72db-440e-bd99-41652326ff9a
DTSTART;VALUE=DATE:20250812
DTEND;VALUE=DATE:20250812
DESCRIPTION:Capitol City BMX
LOCATION:5001 Killingsworth Lane  Pflugerville TX 78660 USA
SUMMARY:Clinic
URL:/site/bmx_races/589517
END:VEVENT
END:VCALENDAR
