BEGIN:VCALENDAR
VERSION:2.0
PRODID:icalendar-ruby
CALSCALE:GREGORIAN
METHOD:PUBLISH
BEGIN:VEVENT
DTSTAMP:20260425T183059Z
UID:fad9efb9-d7c8-412a-84d7-27d80fcb5a0c
DTSTART;VALUE=DATE:20250627
DTEND;VALUE=DATE:20250627
DESCRIPTION:Capitol City BMX
LOCATION:5001 Killingsworth Lane  Pflugerville TX 78660 USA
SUMMARY:Practice
URL:/site/bmx_races/589504
END:VEVENT
END:VCALENDAR
