BEGIN:VCALENDAR
VERSION:2.0
PRODID:icalendar-ruby
CALSCALE:GREGORIAN
METHOD:PUBLISH
BEGIN:VEVENT
DTSTAMP:20260425T215429Z
UID:c6f765c0-e5b5-4074-a8f4-386fce105f0f
DTSTART;VALUE=DATE:20250520
DTEND;VALUE=DATE:20250520
DESCRIPTION:Capitol City BMX
LOCATION:5001 Killingsworth Lane  Pflugerville TX 78660 USA
SUMMARY:Clinic
URL:/site/bmx_races/589493
END:VEVENT
END:VCALENDAR
