BEGIN:VCALENDAR
VERSION:2.0
PRODID:icalendar-ruby
CALSCALE:GREGORIAN
METHOD:PUBLISH
BEGIN:VEVENT
DTSTAMP:20260425T215448Z
UID:73415e06-a7b6-435f-9f45-19d1639e6795
DTSTART;VALUE=DATE:20250422
DTEND;VALUE=DATE:20250422
DESCRIPTION:Capitol City BMX
LOCATION:5001 Killingsworth Lane  Pflugerville TX 78660 USA
SUMMARY:Clinic
URL:/site/bmx_races/589485
END:VEVENT
END:VCALENDAR
