BEGIN:VCALENDAR
VERSION:2.0
PRODID:icalendar-ruby
CALSCALE:GREGORIAN
METHOD:PUBLISH
BEGIN:VEVENT
DTSTAMP:20260425T110746Z
UID:351cc4a6-8a0b-4116-84fe-e0225c7023c9
DTSTART;VALUE=DATE:20250719
DTEND;VALUE=DATE:20250719
DESCRIPTION:Pemberton BMX
LOCATION:Cottonwood Road  Pemberton BC V0N2L1 CAN
SUMMARY:Provincial Race Double
URL:/site/bmx_races/589399
END:VEVENT
END:VCALENDAR
