BEGIN:VCALENDAR
VERSION:2.0
PRODID:icalendar-ruby
CALSCALE:GREGORIAN
METHOD:PUBLISH
BEGIN:VEVENT
DTSTAMP:20260425T144257Z
UID:1f6884b3-ffd2-4044-86dc-dd1ebe771f9a
DTSTART;VALUE=DATE:20250801
DTEND;VALUE=DATE:20250801
DESCRIPTION:Riverside BMX
LOCATION:Mason Sports Complex 701 Mason Rec Rd. Cumberland MD 21502 USA
SUMMARY:Local Race Single
URL:/site/bmx_races/589352
END:VEVENT
END:VCALENDAR
