BEGIN:VCALENDAR
VERSION:2.0
PRODID:icalendar-ruby
CALSCALE:GREGORIAN
METHOD:PUBLISH
BEGIN:VEVENT
DTSTAMP:20260425T204033Z
UID:981801c3-b2b4-4e5c-9aff-4e27da1057d1
DTSTART;VALUE=DATE:20250523
DTEND;VALUE=DATE:20250523
DESCRIPTION:Riverside BMX
LOCATION:Mason Sports Complex 701 Mason Rec Rd. Cumberland MD 21502 USA
SUMMARY:Local Race Single
URL:/site/bmx_races/589322
END:VEVENT
END:VCALENDAR
