BEGIN:VCALENDAR
VERSION:2.0
PRODID:icalendar-ruby
CALSCALE:GREGORIAN
METHOD:PUBLISH
BEGIN:VEVENT
DTSTAMP:20260425T221604Z
UID:38e536e0-de18-41d9-9d13-cb987a055f1f
DTSTART;VALUE=DATE:20250421
DTEND;VALUE=DATE:20250421
DESCRIPTION:Riverside BMX
LOCATION:Mason Sports Complex 701 Mason Rec Rd. Cumberland MD 21502 USA
SUMMARY:Practice
URL:/site/bmx_races/589308
END:VEVENT
END:VCALENDAR
