BEGIN:VCALENDAR
VERSION:2.0
PRODID:icalendar-ruby
CALSCALE:GREGORIAN
METHOD:PUBLISH
BEGIN:VEVENT
DTSTAMP:20260424T094249Z
UID:00072a7c-e742-423f-b3db-26b769d78678
DTSTART;VALUE=DATE:20251129
DTEND;VALUE=DATE:20251129
DESCRIPTION:Oldsmar BMX Supercross
LOCATION:Oldsmar Sports Complex 3120 Tampa Road Oldsmar FL 34677 USA
SUMMARY:Local Race Single
URL:/site/bmx_races/589175
END:VEVENT
END:VCALENDAR
