BEGIN:VCALENDAR
VERSION:2.0
PRODID:icalendar-ruby
CALSCALE:GREGORIAN
METHOD:PUBLISH
BEGIN:VEVENT
DTSTAMP:20260425T134735Z
UID:66b818b1-a580-4027-b659-5837a95f1d76
DTSTART;VALUE=DATE:20251008
DTEND;VALUE=DATE:20251008
DESCRIPTION:Oldsmar BMX Supercross
LOCATION:Oldsmar Sports Complex 3120 Tampa Road Oldsmar FL 34677 USA
SUMMARY:Clinic
URL:/site/bmx_races/589068
END:VEVENT
END:VCALENDAR
