BEGIN:VCALENDAR
VERSION:2.0
PRODID:icalendar-ruby
CALSCALE:GREGORIAN
METHOD:PUBLISH
BEGIN:VEVENT
DTSTAMP:20260425T152543Z
UID:64da4a60-02e9-4209-bc98-f23f4eabf132
DTSTART;VALUE=DATE:20250917
DTEND;VALUE=DATE:20250917
DESCRIPTION:Oldsmar BMX Supercross
LOCATION:Oldsmar Sports Complex 3120 Tampa Road Oldsmar FL 34677 USA
SUMMARY:Clinic
URL:/site/bmx_races/589065
END:VEVENT
END:VCALENDAR
