BEGIN:VCALENDAR
VERSION:2.0
PRODID:icalendar-ruby
CALSCALE:GREGORIAN
METHOD:PUBLISH
BEGIN:VEVENT
DTSTAMP:20260425T152811Z
UID:8f5ab7ed-81e1-4319-b07c-970f482a29b4
DTSTART;VALUE=DATE:20250903
DTEND;VALUE=DATE:20250903
DESCRIPTION:Oldsmar BMX Supercross
LOCATION:Oldsmar Sports Complex 3120 Tampa Road Oldsmar FL 34677 USA
SUMMARY:Clinic
URL:/site/bmx_races/589063
END:VEVENT
END:VCALENDAR
