BEGIN:VCALENDAR
VERSION:2.0
PRODID:icalendar-ruby
CALSCALE:GREGORIAN
METHOD:PUBLISH
BEGIN:VEVENT
DTSTAMP:20260425T215325Z
UID:7146ee42-fdc6-4d71-9543-e1c6798c4fbc
DTSTART;VALUE=DATE:20250528
DTEND;VALUE=DATE:20250528
DESCRIPTION:Oldsmar BMX Supercross
LOCATION:Oldsmar Sports Complex 3120 Tampa Road Oldsmar FL 34677 USA
SUMMARY:Clinic
URL:/site/bmx_races/589049
END:VEVENT
END:VCALENDAR
