BEGIN:VCALENDAR
VERSION:2.0
PRODID:icalendar-ruby
CALSCALE:GREGORIAN
METHOD:PUBLISH
BEGIN:VEVENT
DTSTAMP:20260426T011504Z
UID:37768444-cb97-49d8-bf43-7f732576bffb
DTSTART;VALUE=DATE:20250729
DTEND;VALUE=DATE:20250729
DESCRIPTION:Yucaipa BMX
LOCATION:32750 Thunderbird Way  Yucaipa CA 92399 USA
SUMMARY:Practice
URL:/site/bmx_races/588951
END:VEVENT
END:VCALENDAR
