BEGIN:VCALENDAR
VERSION:2.0
PRODID:icalendar-ruby
CALSCALE:GREGORIAN
METHOD:PUBLISH
BEGIN:VEVENT
DTSTAMP:20260425T115205Z
UID:85890258-43df-4585-bf66-458a29b45fb7
DTSTART;VALUE=DATE:20251023
DTEND;VALUE=DATE:20251023
DESCRIPTION:Midland BMX
LOCATION:3950 E Ashman St  Midland MI 48642 USA
SUMMARY:Local Race Single
URL:/site/bmx_races/588717
END:VEVENT
END:VCALENDAR
