BEGIN:VCALENDAR
VERSION:2.0
PRODID:icalendar-ruby
CALSCALE:GREGORIAN
METHOD:PUBLISH
BEGIN:VEVENT
DTSTAMP:20260425T033118Z
UID:2f3a9b89-ba5d-429c-bd5b-4c02ff77fcea
DTSTART;VALUE=DATE:20250716
DTEND;VALUE=DATE:20250716
DESCRIPTION:Emery Park BMX
LOCATION:2339 E Mac Arthur Rd  Wichita KS 67216 USA
SUMMARY:Local Race Single
URL:/site/bmx_races/588641
END:VEVENT
END:VCALENDAR
