BEGIN:VCALENDAR
VERSION:2.0
PRODID:icalendar-ruby
CALSCALE:GREGORIAN
METHOD:PUBLISH
BEGIN:VEVENT
DTSTAMP:20260424T150640Z
UID:3032dc95-54f1-42db-bb08-a27564fbd4b1
DTSTART;VALUE=DATE:20250423
DTEND;VALUE=DATE:20250423
DESCRIPTION:Emery Park BMX
LOCATION:2339 E Mac Arthur Rd  Wichita KS 67216 USA
SUMMARY:Local Race Single
URL:/site/bmx_races/588618
END:VEVENT
END:VCALENDAR
