BEGIN:VCALENDAR
VERSION:2.0
PRODID:icalendar-ruby
CALSCALE:GREGORIAN
METHOD:PUBLISH
BEGIN:VEVENT
DTSTAMP:20260425T134718Z
UID:127b3222-eca8-43ef-b726-5351123603bf
DTSTART;VALUE=DATE:20250826
DTEND;VALUE=DATE:20250826
DESCRIPTION:Bradley BMX
LOCATION:234 Urbane Rd  Cleveland TN 37312 USA
SUMMARY:Practice
URL:/site/bmx_races/588497
END:VEVENT
END:VCALENDAR
