BEGIN:VCALENDAR
VERSION:2.0
PRODID:icalendar-ruby
CALSCALE:GREGORIAN
METHOD:PUBLISH
BEGIN:VEVENT
DTSTAMP:20260425T152714Z
UID:33ed4ece-8b11-4c6f-bf20-0f2a00f2a744
DTSTART;VALUE=DATE:20250715
DTEND;VALUE=DATE:20250715
DESCRIPTION:Bradley BMX
LOCATION:234 Urbane Rd  Cleveland TN 37312 USA
SUMMARY:Practice
URL:/site/bmx_races/588485
END:VEVENT
END:VCALENDAR
