BEGIN:VCALENDAR
VERSION:2.0
PRODID:icalendar-ruby
CALSCALE:GREGORIAN
METHOD:PUBLISH
BEGIN:VEVENT
DTSTAMP:20260425T200102Z
UID:84950788-608d-4bf3-89d4-5bdf20e5d124
DTSTART;VALUE=DATE:20250422
DTEND;VALUE=DATE:20250422
DESCRIPTION:Bradley BMX
LOCATION:234 Urbane Rd  Cleveland TN 37312 USA
SUMMARY:Practice
URL:/site/bmx_races/588461
END:VEVENT
END:VCALENDAR
