BEGIN:VCALENDAR
VERSION:2.0
PRODID:icalendar-ruby
CALSCALE:GREGORIAN
METHOD:PUBLISH
BEGIN:VEVENT
DTSTAMP:20260425T200729Z
UID:a05fbe90-30d2-44d8-a8c4-3cca6a978493
DTSTART;VALUE=DATE:20250412
DTEND;VALUE=DATE:20250412
DESCRIPTION:Bradley BMX
LOCATION:234 Urbane Rd  Cleveland TN 37312 USA
SUMMARY:Local Race Single
URL:/site/bmx_races/588458
END:VEVENT
END:VCALENDAR
