BEGIN:VCALENDAR
VERSION:2.0
PRODID:icalendar-ruby
CALSCALE:GREGORIAN
METHOD:PUBLISH
BEGIN:VEVENT
DTSTAMP:20260425T134935Z
UID:7372ff4e-cdc5-4ac2-9ccc-f03be256060b
DTSTART;VALUE=DATE:20250524
DTEND;VALUE=DATE:20250524
DESCRIPTION:Falcon BMX
LOCATION:Falcon Field 200 Westfield Road Meriden CT 06450 USA
SUMMARY:Local Race Single
URL:/site/bmx_races/588136
END:VEVENT
END:VCALENDAR
