BEGIN:VCALENDAR
VERSION:2.0
PRODID:icalendar-ruby
CALSCALE:GREGORIAN
METHOD:PUBLISH
BEGIN:VEVENT
DTSTAMP:20260425T234640Z
UID:fe2ec25f-6fd7-484c-803a-3d3a1cd63b1b
DTSTART;VALUE=DATE:20250512
DTEND;VALUE=DATE:20250512
DESCRIPTION:Capital City BMX
LOCATION:516 Dennis Ave  Raleigh NC 27604 USA
SUMMARY:Non-Riding Event
URL:/site/bmx_races/587893
END:VEVENT
END:VCALENDAR
