BEGIN:VCALENDAR
VERSION:2.0
PRODID:icalendar-ruby
CALSCALE:GREGORIAN
METHOD:PUBLISH
BEGIN:VEVENT
DTSTAMP:20260425T173914Z
UID:2511d487-7556-4977-85b8-bbb98b8b5b29
DTSTART;VALUE=DATE:20250909
DTEND;VALUE=DATE:20250909
DESCRIPTION:Capital City BMX
LOCATION:516 Dennis Ave  Raleigh NC 27604 USA
SUMMARY:Practice
URL:/site/bmx_races/587886
END:VEVENT
END:VCALENDAR
