BEGIN:VCALENDAR
VERSION:2.0
PRODID:icalendar-ruby
CALSCALE:GREGORIAN
METHOD:PUBLISH
BEGIN:VEVENT
DTSTAMP:20260426T011257Z
UID:7200a037-6b73-4bba-ba27-5de6773e3b9d
DTSTART;VALUE=DATE:20250429
DTEND;VALUE=DATE:20250429
DESCRIPTION:Capital City BMX
LOCATION:516 Dennis Ave  Raleigh NC 27604 USA
SUMMARY:Practice
URL:/site/bmx_races/587848
END:VEVENT
END:VCALENDAR
