BEGIN:VCALENDAR
VERSION:2.0
PRODID:icalendar-ruby
CALSCALE:GREGORIAN
METHOD:PUBLISH
BEGIN:VEVENT
DTSTAMP:20260426T011240Z
UID:17935155-2005-42d2-8201-bc56444b6a3f
DTSTART;VALUE=DATE:20250410
DTEND;VALUE=DATE:20250410
DESCRIPTION:Capital City BMX
LOCATION:516 Dennis Ave  Raleigh NC 27604 USA
SUMMARY:Practice
URL:/site/bmx_races/587843
END:VEVENT
END:VCALENDAR
