BEGIN:VCALENDAR
VERSION:2.0
PRODID:icalendar-ruby
CALSCALE:GREGORIAN
METHOD:PUBLISH
BEGIN:VEVENT
DTSTAMP:20260424T070934Z
UID:5cf82eef-fb01-486e-a396-0a1d733b64d1
DTSTART;VALUE=DATE:20250824
DTEND;VALUE=DATE:20250824
DESCRIPTION:Rusty Bowl BMX
LOCATION:1281 E Gobbi St  Ukiah CA 95482 USA
SUMMARY:Local Race Single
URL:/site/bmx_races/587780
END:VEVENT
END:VCALENDAR
